BEGIN:VCALENDAR
VERSION:2.0
PRODID:-//Pousses de science - ECPv6.15.20//NONSGML v1.0//EN
CALSCALE:GREGORIAN
METHOD:PUBLISH
X-WR-CALNAME:Pousses de science
X-ORIGINAL-URL:https://poussesdescience.fr
X-WR-CALDESC:Évènements pour Pousses de science
REFRESH-INTERVAL;VALUE=DURATION:PT1H
X-Robots-Tag:noindex
X-PUBLISHED-TTL:PT1H
BEGIN:VTIMEZONE
TZID:Europe/Paris
BEGIN:DAYLIGHT
TZOFFSETFROM:+0100
TZOFFSETTO:+0200
TZNAME:CEST
DTSTART:20250330T010000
END:DAYLIGHT
BEGIN:STANDARD
TZOFFSETFROM:+0200
TZOFFSETTO:+0100
TZNAME:CET
DTSTART:20251026T010000
END:STANDARD
BEGIN:DAYLIGHT
TZOFFSETFROM:+0100
TZOFFSETTO:+0200
TZNAME:CEST
DTSTART:20260329T010000
END:DAYLIGHT
BEGIN:STANDARD
TZOFFSETFROM:+0200
TZOFFSETTO:+0100
TZNAME:CET
DTSTART:20261025T010000
END:STANDARD
BEGIN:DAYLIGHT
TZOFFSETFROM:+0100
TZOFFSETTO:+0200
TZNAME:CEST
DTSTART:20270328T010000
END:DAYLIGHT
BEGIN:STANDARD
TZOFFSETFROM:+0200
TZOFFSETTO:+0100
TZNAME:CET
DTSTART:20271031T010000
END:STANDARD
END:VTIMEZONE
BEGIN:VEVENT
DTSTART;TZID=Europe/Paris:20260425T093000
DTEND;TZID=Europe/Paris:20260425T120000
DTSTAMP:20260424T155041
CREATED:20260328T115617Z
LAST-MODIFIED:20260328T115622Z
UID:4049-1777109400-1777118400@poussesdescience.fr
SUMMARY:Club de science de La Roue
DESCRIPTION:Le Club de Science c’est un RDV scientifique un samedi par mois pour tous les curieux entre 4 et 12 ans.   \n\n\n\nVous pouvez dès à présent y inscrire votre enfant : les dates sont indiquées dans le visuel. Deux créneaux sont possibles : de 9h30 à 10h30 pour les 4-6 ans et de 11h à 12h pour les 7-12 ans.  \n\n\n\nCette année\, le club s’articulera autour de trois grandes thématiques (une par trimestre) :  \n\n\n\n– Astronomie et Espace \n\n\n\n– Physique amusante de la matière \n\n\n\n– Science des animaux rigolos \n\n\n\nPour cet atelier\, nous découvrirons les plus attachants des animaux baveux : les escargots. Vous pouvez dès à présent inscrire votre enfant au club de science : les dates sont indiquées dans le visuel.  \n\n\n\nInscription sur le formulaire de contact.
URL:https://poussesdescience.fr/event/club-de-science-de-la-roue-19/
LOCATION:La Roue\, 8 rue Mazet\, Chabeuil\, France
CATEGORIES:Atelier en présentiel
ATTACH;FMTTYPE=image/jpeg:https://poussesdescience.fr/wp-content/uploads/2025/10/Les-ateliers-scientifiques-des-vacances-davril-Semaine-du-17-au-21-avril-2.jpg
END:VEVENT
BEGIN:VEVENT
DTSTART;TZID=Europe/Paris:20260428T093000
DTEND;TZID=Europe/Paris:20260428T114500
DTSTAMP:20260424T155041
CREATED:20260328T120229Z
LAST-MODIFIED:20260328T120231Z
UID:4051-1777368600-1777376700@poussesdescience.fr
SUMMARY:Club de science IEF
DESCRIPTION:Le Club de science spécial IEF est un RDV mensuel scientifique pour tous les enfants scolarisés à la maison. \n\n\n\nUn mardi par mois\, nous explorons une thématique et des concepts scientifiques au fil des expériences et manipulations ludiques. A la clé : plaisir d’apprendre\, joie de découvrir et bonheur de faire grandir notre curiosité !  \n\n\n\nCette année\, le club s’articulera autour de trois grandes thématiques (une par trimestre) :  \n\n\n\n– Astronomie et Espace \n\n\n\n– Physique amusante de la matière \n\n\n\n– Science des animaux rigolos \n\n\n\nPour cet atelier\, nous continuerons notre série d’ateliers sur la Biologie des animaux rigolos avec la découverte des plus baveux du jardin : les Escargots.  \n\n\n\nVous pouvez dès à présent inscrire votre enfant au club de science : les dates sont indiquées dans le visuel.  \n\n\n\nDeux créneaux sont possibles : de 9h30 à 10h30 pour les 4-6 ans et de 10h45 à 11h45 pour les 7-12 ans. \n\n\n\nInscription sur le formulaire de contact.
URL:https://poussesdescience.fr/event/club-de-science-ief-3/
LOCATION:La Roue\, 8 rue Mazet\, Chabeuil\, France
CATEGORIES:Atelier en présentiel
ATTACH;FMTTYPE=image/jpeg:https://poussesdescience.fr/wp-content/uploads/2025/09/Les-ateliers-scientifiques-des-vacances-davril-Semaine-du-17-au-21-avril-1.jpg
END:VEVENT
END:VCALENDAR