BEGIN:VCALENDAR
VERSION:2.0
PRODID:-//Pousses de science - ECPv6.15.20//NONSGML v1.0//EN
CALSCALE:GREGORIAN
METHOD:PUBLISH
X-WR-CALNAME:Pousses de science
X-ORIGINAL-URL:https://poussesdescience.fr
X-WR-CALDESC:Évènements pour Pousses de science
REFRESH-INTERVAL;VALUE=DURATION:PT1H
X-Robots-Tag:noindex
X-PUBLISHED-TTL:PT1H
BEGIN:VTIMEZONE
TZID:Europe/Paris
BEGIN:DAYLIGHT
TZOFFSETFROM:+0100
TZOFFSETTO:+0200
TZNAME:CEST
DTSTART:20230326T010000
END:DAYLIGHT
BEGIN:STANDARD
TZOFFSETFROM:+0200
TZOFFSETTO:+0100
TZNAME:CET
DTSTART:20231029T010000
END:STANDARD
BEGIN:DAYLIGHT
TZOFFSETFROM:+0100
TZOFFSETTO:+0200
TZNAME:CEST
DTSTART:20240331T010000
END:DAYLIGHT
BEGIN:STANDARD
TZOFFSETFROM:+0200
TZOFFSETTO:+0100
TZNAME:CET
DTSTART:20241027T010000
END:STANDARD
BEGIN:DAYLIGHT
TZOFFSETFROM:+0100
TZOFFSETTO:+0200
TZNAME:CEST
DTSTART:20250330T010000
END:DAYLIGHT
BEGIN:STANDARD
TZOFFSETFROM:+0200
TZOFFSETTO:+0100
TZNAME:CET
DTSTART:20251026T010000
END:STANDARD
END:VTIMEZONE
BEGIN:VEVENT
DTSTART;TZID=Europe/Paris:20240116T100000
DTEND;TZID=Europe/Paris:20240116T110000
DTSTAMP:20260426T063519
CREATED:20240104T205209Z
LAST-MODIFIED:20260323T192448Z
UID:3256-1705399200-1705402800@poussesdescience.fr
SUMMARY:VISIO : Nos amis les microbes
DESCRIPTION:Je vous invite pour un atelier scientifique à la découverte de « Nos amis les microbes » ou comment plonger dans le monde microscopique de la microbiologie et apprendre que les microbes sont aussi des petites bêtes sympathiques !  \n\n\n\nTarif unique pour toute la famille\, participation conseillée de 6 à 99 ans. Infos et inscription avec le formulaire de contact.
URL:https://poussesdescience.fr/event/visio-nos-amis-les-microbes-2/
CATEGORIES:Atelier en visio
ATTACH;FMTTYPE=image/jpeg:https://poussesdescience.fr/wp-content/uploads/2024/01/35.jpg
END:VEVENT
BEGIN:VEVENT
DTSTART;TZID=Europe/Paris:20240120T100000
DTEND;TZID=Europe/Paris:20240120T113000
DTSTAMP:20260426T063519
CREATED:20240105T095619Z
LAST-MODIFIED:20260323T191706Z
UID:3269-1705744800-1705750200@poussesdescience.fr
SUMMARY:Atelier parent-enfant : Cellule et ADN
DESCRIPTION:Le temps d’une matinée scientifique\, je vous invite pour un voyage dans l’infiniment petit\, venez plonger au cœur du vivant\, découvrir la biologie cellulaire et percer le mystère de l’ADN en famille.  \n\n\n\nAccessible dès 6 ans. Atelier en binôme 1 adulte/1 enfant.  \n\n\n\nInscription par le formulaire de contact.
URL:https://poussesdescience.fr/event/atelier-parent-enfant-cellule-et-adn/
LOCATION:Ferme des Volonteux\, Le Volonteux\, Beaumont-lès-Valence\, 26760\, France
ATTACH;FMTTYPE=image/jpeg:https://poussesdescience.fr/wp-content/uploads/2024/01/ADN-20-janvier-Volonteux.jpg
END:VEVENT
BEGIN:VEVENT
DTSTART;TZID=Europe/Paris:20240121T100000
DTEND;TZID=Europe/Paris:20240121T110000
DTSTAMP:20260426T063519
CREATED:20240104T205611Z
LAST-MODIFIED:20260323T192447Z
UID:3259-1705831200-1705834800@poussesdescience.fr
SUMMARY:VISIO : Invitation dans ton cerveau
DESCRIPTION:Est ce que nous avons tous le même cerveau ? Comment fonctionne cet organe fascinant et mystérieux ? Avec l’atelier « Invitation dans ton cerveau »\, nous plongerons dans l’univers extraordinaire de la neurobiologie !  \n\n\n\nTarif unique pour toute la famille\, participation conseillée de 6 à 99 ans. Infos et inscription avec le formulaire de contact.
URL:https://poussesdescience.fr/event/visio-invitation-dans-ton-cerveau/
CATEGORIES:Atelier en visio
ATTACH;FMTTYPE=image/jpeg:https://poussesdescience.fr/wp-content/uploads/2024/01/36.jpg
END:VEVENT
BEGIN:VEVENT
DTSTART;TZID=Europe/Paris:20240123T093000
DTEND;TZID=Europe/Paris:20240123T120000
DTSTAMP:20260426T063519
CREATED:20240105T094536Z
LAST-MODIFIED:20260323T192257Z
UID:3265-1706002200-1706011200@poussesdescience.fr
SUMMARY:Club de Science de la Roue – Spécial IEF
DESCRIPTION:Le Club de science spécial IEF est un RDV mensuel scientifique pour tous les enfants scolarisés à maison. \n\n\n\nUn mardi par mois\, nous explorerons une thématique et des concepts scientifiques au fil des expériences et manipulations ludiques. A la clé : plaisir d’apprendre\, joie de découvrir et bonheur de faire grandir notre curiosité !  \n\n\n\nCette année\, le club s’articulera autour de trois grandes thématiques (une par trimestre) :  \n\n\n\n– Astronomie\, Zoologie et physique pour les 4-6 ans ;  \n\n\n\n– Chimie\, Zoologie et physique/optique pour les 7-12 ans.  \n\n\n\nPour cet atelier\, les 4-6 ans et les 7-12 ans débuteront la série autour de l’ornithologie avec la découverte des oeufs et la fabrication de nids d’oiseaux. \n\n\n\nVous pouvez dès à présent inscrire votre enfant au club de science : les dates sont indiquées dans le visuel.  \n\n\n\nDeux créneaux sont possibles : de 9h30 à 10h30 pour les 4-6 ans et de 11h à 12h pour les 7-12 ans.  \n\n\n\n16€ ou à l’année 90€ (6 séances)
URL:https://poussesdescience.fr/event/club-de-science-de-la-roue-special-ief-5/
LOCATION:La Roue\, 8 rue Mazet\, Chabeuil\, France
CATEGORIES:Atelier en présentiel
ATTACH;FMTTYPE=image/jpeg:https://poussesdescience.fr/wp-content/uploads/2023/08/Club-IEF-La-Roue.jpg
END:VEVENT
BEGIN:VEVENT
DTSTART;TZID=Europe/Paris:20240127T100000
DTEND;TZID=Europe/Paris:20240127T123000
DTSTAMP:20260426T063519
CREATED:20240105T094834Z
LAST-MODIFIED:20260323T192257Z
UID:3267-1706349600-1706358600@poussesdescience.fr
SUMMARY:Club de Science de la Roue
DESCRIPTION:Le Club de Science c’est un RDV scientifique un samedi par mois pour tous les curieux entre 4 et 12 ans.   \n\n\n\nVous pouvez dès à présent y inscrire votre enfant : les dates sont indiquées dans le visuel. Deux créneaux sont possibles : de 10h à 11h pour les 4-6 ans et de 11h30 à 12h30 pour les 7-12 ans.  \n\n\n\nCette année\, le club s’articulera autour de trois grandes thématiques (une par trimestre) :  \n\n\n\n– pour les 4-6 ans : Astronomie\, Zoologie et Physique ;  \n\n\n\n– pour les 7-12 ans : Chimie\, Zoologie et Physique.  \n\n\n\nPour cet atelier\, les 4-6 ans et les 7-12 ans commenceront une série d’ateliers autour de l’ornithologie avec la découverte des oeufs et la fabrication de nids. \n\n\n\n16€ l’atelier ou à l’année 90€ (6 séances) \n\n\n\nInscription par le formulaire de contact
URL:https://poussesdescience.fr/event/club-de-science-de-la-roue-8/
LOCATION:La Roue\, 8 rue Mazet\, Chabeuil\, France
CATEGORIES:Atelier en présentiel
ATTACH;FMTTYPE=image/jpeg:https://poussesdescience.fr/wp-content/uploads/2023/08/club-2023-24-La-Roue.jpg
END:VEVENT
BEGIN:VEVENT
DTSTART;TZID=Europe/Paris:20240128T100000
DTEND;TZID=Europe/Paris:20240128T110000
DTSTAMP:20260426T063519
CREATED:20240104T210108Z
LAST-MODIFIED:20260323T192447Z
UID:3262-1706436000-1706439600@poussesdescience.fr
SUMMARY:VISIO : Science des bulles
DESCRIPTION:Voici un nouvel atelier scientifique à distance inédit\, pour découvrir la « Science des bulles » ! Autour de défis amusants\, nous réaliserons un voyage ludique pour expérimenter et comprendre la physique des bulles de savons.  \n\n\n\nTarif unique pour toute la famille\, participation conseillée de 6 à 99 ans. Infos et inscription avec le formulaire de contact.
URL:https://poussesdescience.fr/event/visio-science-des-bulles/
CATEGORIES:Atelier en visio
ATTACH;FMTTYPE=image/jpeg:https://poussesdescience.fr/wp-content/uploads/2024/01/38.jpg
END:VEVENT
END:VCALENDAR