BEGIN:VCALENDAR
VERSION:2.0
PRODID:-//Pousses de science - ECPv6.15.20//NONSGML v1.0//EN
CALSCALE:GREGORIAN
METHOD:PUBLISH
X-WR-CALNAME:Pousses de science
X-ORIGINAL-URL:https://poussesdescience.fr
X-WR-CALDESC:Évènements pour Pousses de science
REFRESH-INTERVAL;VALUE=DURATION:PT1H
X-Robots-Tag:noindex
X-PUBLISHED-TTL:PT1H
BEGIN:VTIMEZONE
TZID:Europe/Paris
BEGIN:DAYLIGHT
TZOFFSETFROM:+0100
TZOFFSETTO:+0200
TZNAME:CEST
DTSTART:20230326T010000
END:DAYLIGHT
BEGIN:STANDARD
TZOFFSETFROM:+0200
TZOFFSETTO:+0100
TZNAME:CET
DTSTART:20231029T010000
END:STANDARD
BEGIN:DAYLIGHT
TZOFFSETFROM:+0100
TZOFFSETTO:+0200
TZNAME:CEST
DTSTART:20240331T010000
END:DAYLIGHT
BEGIN:STANDARD
TZOFFSETFROM:+0200
TZOFFSETTO:+0100
TZNAME:CET
DTSTART:20241027T010000
END:STANDARD
BEGIN:DAYLIGHT
TZOFFSETFROM:+0100
TZOFFSETTO:+0200
TZNAME:CEST
DTSTART:20250330T010000
END:DAYLIGHT
BEGIN:STANDARD
TZOFFSETFROM:+0200
TZOFFSETTO:+0100
TZNAME:CET
DTSTART:20251026T010000
END:STANDARD
END:VTIMEZONE
BEGIN:VEVENT
DTSTART;TZID=Europe/Paris:20240312T100000
DTEND;TZID=Europe/Paris:20240312T110000
DTSTAMP:20260426T035626
CREATED:20240221T211920Z
LAST-MODIFIED:20260323T192447Z
UID:3379-1710237600-1710241200@poussesdescience.fr
SUMMARY:VISIO : Pousse Archimède\, un sous-marin en bouteille
DESCRIPTION:Avec l’atelier « Pousse Archimède : un sous-marin dans une bouteille ?!« \, je vous propose une matinée scientifique pour découvrir les forces physiques agissant dans l’eau et comprendre la science des sous-marins.   \n\n\n\nTarif unique pour toute la famille\, participation conseillée de 6 à 99 ans. Infos et inscription avec le formulaire de contact.
URL:https://poussesdescience.fr/event/visio-pousse-archimede-un-sous-marin-en-bouteille/
CATEGORIES:Atelier en visio
ATTACH;FMTTYPE=image/jpeg:https://poussesdescience.fr/wp-content/uploads/2024/02/46.jpg
END:VEVENT
BEGIN:VEVENT
DTSTART;TZID=Europe/Paris:20240319T093000
DTEND;TZID=Europe/Paris:20240319T120000
DTSTAMP:20260426T035626
CREATED:20240221T212337Z
LAST-MODIFIED:20260323T192256Z
UID:3382-1710840600-1710849600@poussesdescience.fr
SUMMARY:Club de Science de la Roue – Spécial IEF
DESCRIPTION:Le Club de science spécial IEF est un RDV mensuel scientifique pour tous les enfants scolarisés à maison. \n\n\n\nUn mardi par mois\, nous explorerons une thématique et des concepts scientifiques au fil des expériences et manipulations ludiques. A la clé : plaisir d’apprendre\, joie de découvrir et bonheur de faire grandir notre curiosité !  \n\n\n\nCette année\, le club s’articulera autour de trois grandes thématiques (une par trimestre) :  \n\n\n\n– Astronomie\, Zoologie et physique pour les 4-6 ans ;  \n\n\n\n– Chimie\, Zoologie et physique/optique pour les 7-12 ans.  \n\n\n\nPour cet atelier\, nous poursuivrons notre série d’ateliers sur le thème des oiseaux et de l’ornithologie avec l’atelier « Plumes et vol ». \n\n\n\nVous pouvez dès à présent inscrire votre enfant au club de science : les dates sont indiquées dans le visuel.  \n\n\n\nDeux créneaux sont possibles : de 9h30 à 10h30 pour les 4-6 ans et de 11h à 12h pour les 7-12 ans. 
URL:https://poussesdescience.fr/event/club-de-science-de-la-roue-special-ief-7/
LOCATION:La Roue\, 8 rue Mazet\, Chabeuil\, France
CATEGORIES:Atelier en présentiel
ATTACH;FMTTYPE=image/jpeg:https://poussesdescience.fr/wp-content/uploads/2023/08/Club-IEF-La-Roue.jpg
END:VEVENT
BEGIN:VEVENT
DTSTART;TZID=Europe/Paris:20240323T100000
DTEND;TZID=Europe/Paris:20240323T123000
DTSTAMP:20260426T035626
CREATED:20240221T212652Z
LAST-MODIFIED:20260323T192256Z
UID:3384-1711188000-1711197000@poussesdescience.fr
SUMMARY:Club de Science de la Roue
DESCRIPTION:Le Club de Science c’est un RDV scientifique un samedi par mois pour tous les curieux entre 4 et 12 ans.   \n\n\n\nVous pouvez dès à présent y inscrire votre enfant : les dates sont indiquées dans le visuel. Deux créneaux sont possibles : de 10h à 11h pour les 4-6 ans et de 11h30 à 12h30 pour les 7-12 ans.  \n\n\n\nCette année\, le club s’articulera autour de trois grandes thématiques (une par trimestre) :  \n\n\n\n– pour les 4-6 ans : Astronomie\, Zoologie et Physique ;  \n\n\n\n– pour les 7-12 ans : Chimie\, Zoologie et Physique.  \n\n\n\nPour cet atelier\, nous poursuivrons notre série d’ateliers sur le thème des oiseaux et de l’ornithologie avec l’atelier « Plume et vol » \n\n\n\nInscription par le formulaire de contact
URL:https://poussesdescience.fr/event/club-de-science-de-la-roue-9/
LOCATION:La Roue\, 8 rue Mazet\, Chabeuil\, France
CATEGORIES:Atelier en présentiel
ATTACH;FMTTYPE=image/jpeg:https://poussesdescience.fr/wp-content/uploads/2023/08/club-2023-24-La-Roue.jpg
END:VEVENT
BEGIN:VEVENT
DTSTART;TZID=Europe/Paris:20240324T100000
DTEND;TZID=Europe/Paris:20240324T110000
DTSTAMP:20260426T035626
CREATED:20240221T213028Z
LAST-MODIFIED:20260323T192447Z
UID:3386-1711274400-1711278000@poussesdescience.fr
SUMMARY:VISIO : Chimie en cuisine
DESCRIPTION:Avec l’atelier « Chimie en cuisine« \, on enfile sa toque et sa blouse pour découvrir la cuisine moléculaire et de délicieuses expériences. \n\n\n\nTarif unique pour toute la famille\, participation conseillée de 6 à 99 ans. Infos et inscription avec le formulaire de contact.
URL:https://poussesdescience.fr/event/visio-chimie-en-cuisine-2/
CATEGORIES:Atelier en visio
ATTACH;FMTTYPE=image/jpeg:https://poussesdescience.fr/wp-content/uploads/2024/02/47.jpg
END:VEVENT
BEGIN:VEVENT
DTSTART;TZID=Europe/Paris:20240330T100000
DTEND;TZID=Europe/Paris:20240330T113000
DTSTAMP:20260426T035626
CREATED:20240221T214235Z
LAST-MODIFIED:20260323T191705Z
UID:3392-1711792800-1711798200@poussesdescience.fr
SUMMARY:Atelier parent-enfant : Invitation dans ton cerveau
DESCRIPTION:Le temps d’une matinée scientifique\, je vous invite pour explorer le cerveau en famille. Au programme : jeux et modélisations pour comprendre les mystères nichés à l’intérieur de notre boîte crânienne.  \n\n\n\nAccessible dès 6 ans. Atelier en binôme 1 adulte/1 enfant. \n\n\n\nInscription par le formulaire de contact.
URL:https://poussesdescience.fr/event/atelier-parent-enfant-invitation-dans-ton-cerveau/
LOCATION:Ferme des Volonteux\, Le Volonteux\, Beaumont-lès-Valence\, 26760\, France
ATTACH;FMTTYPE=image/jpeg:https://poussesdescience.fr/wp-content/uploads/2024/02/Volonteux_30_mars_cerveau.jpg
END:VEVENT
BEGIN:VEVENT
DTSTART;TZID=Europe/Paris:20240331T100000
DTEND;TZID=Europe/Paris:20240331T110000
DTSTAMP:20260426T035626
CREATED:20240221T213513Z
LAST-MODIFIED:20260323T192447Z
UID:3389-1711879200-1711882800@poussesdescience.fr
SUMMARY:VISIO : Attention à la chute - gravité et parachute
DESCRIPTION:C’est parti pour l’atelier « Attention à la chute ! » idéal pour explorer la gravité et fabriquer des parachutes. \n\n\n\nTarif unique pour toute la famille\, participation conseillée de 6 à 99 ans. Infos et inscription avec le formulaire de contact.
URL:https://poussesdescience.fr/event/visio-attention-a-la-chute-gravite-et-parachute/
CATEGORIES:Atelier en visio
ATTACH;FMTTYPE=image/jpeg:https://poussesdescience.fr/wp-content/uploads/2024/02/48.jpg
END:VEVENT
END:VCALENDAR