BEGIN:VCALENDAR
VERSION:2.0
PRODID:-//Pousses de science - ECPv6.15.20//NONSGML v1.0//EN
CALSCALE:GREGORIAN
METHOD:PUBLISH
X-WR-CALNAME:Pousses de science
X-ORIGINAL-URL:https://poussesdescience.fr
X-WR-CALDESC:Évènements pour Pousses de science
REFRESH-INTERVAL;VALUE=DURATION:PT1H
X-Robots-Tag:noindex
X-PUBLISHED-TTL:PT1H
BEGIN:VTIMEZONE
TZID:Europe/Paris
BEGIN:DAYLIGHT
TZOFFSETFROM:+0100
TZOFFSETTO:+0200
TZNAME:CEST
DTSTART:20230326T010000
END:DAYLIGHT
BEGIN:STANDARD
TZOFFSETFROM:+0200
TZOFFSETTO:+0100
TZNAME:CET
DTSTART:20231029T010000
END:STANDARD
BEGIN:DAYLIGHT
TZOFFSETFROM:+0100
TZOFFSETTO:+0200
TZNAME:CEST
DTSTART:20240331T010000
END:DAYLIGHT
BEGIN:STANDARD
TZOFFSETFROM:+0200
TZOFFSETTO:+0100
TZNAME:CET
DTSTART:20241027T010000
END:STANDARD
BEGIN:DAYLIGHT
TZOFFSETFROM:+0100
TZOFFSETTO:+0200
TZNAME:CEST
DTSTART:20250330T010000
END:DAYLIGHT
BEGIN:STANDARD
TZOFFSETFROM:+0200
TZOFFSETTO:+0100
TZNAME:CET
DTSTART:20251026T010000
END:STANDARD
END:VTIMEZONE
BEGIN:VEVENT
DTSTART;TZID=Europe/Paris:20240402T100000
DTEND;TZID=Europe/Paris:20240402T110000
DTSTAMP:20260426T024116
CREATED:20240329T092353Z
LAST-MODIFIED:20260323T192447Z
UID:3398-1712052000-1712055600@poussesdescience.fr
SUMMARY:VISIO : A la découverte de nos organes
DESCRIPTION:RDV pour le créneau spécial IEF avec l’atelier  « A la découverte de nos organes « \, idéal pour explorer le corps humain\, et comprendre la digestion et la respiration.   \n\n\n\nTarif unique pour toute la famille\, participation conseillée de 6 à 99 ans. Infos et inscription avec le formulaire de contact.
URL:https://poussesdescience.fr/event/visio-a-la-decouverte-de-nos-organes-2/
CATEGORIES:Atelier en visio
ATTACH;FMTTYPE=image/jpeg:https://poussesdescience.fr/wp-content/uploads/2024/03/58.jpg
END:VEVENT
BEGIN:VEVENT
DTSTART;TZID=Europe/Paris:20240409T093000
DTEND;TZID=Europe/Paris:20240409T120000
DTSTAMP:20260426T024116
CREATED:20240329T093041Z
LAST-MODIFIED:20260323T192256Z
UID:3401-1712655000-1712664000@poussesdescience.fr
SUMMARY:Club de Science de la Roue – Spécial IEF
DESCRIPTION:Le Club de science spécial IEF est un RDV mensuel scientifique pour tous les enfants scolarisés à maison. \n\n\n\nUn mardi par mois\, nous explorerons une thématique et des concepts scientifiques au fil des expériences et manipulations ludiques. A la clé : plaisir d’apprendre\, joie de découvrir et bonheur de faire grandir notre curiosité !  \n\n\n\nCette année\, le club s’articulera autour de trois grandes thématiques (une par trimestre) :  \n\n\n\n– Astronomie\, Zoologie et physique pour les 4-6 ans ;  \n\n\n\n– Chimie\, Zoologie et physique/optique pour les 7-12 ans.  \n\n\n\nPour cet atelier\, nous explorerons le son et la physique acoustique.  \n\n\n\nVous pouvez dès à présent inscrire votre enfant au club de science : les dates sont indiquées dans le visuel.  \n\n\n\nDeux créneaux sont possibles : de 9h30 à 10h30 pour les 4-6 ans et de 11h à 12h pour les 7-12 ans. 
URL:https://poussesdescience.fr/event/club-de-science-de-la-roue-special-ief-8/
LOCATION:La Roue\, 8 rue Mazet\, Chabeuil\, France
CATEGORIES:Atelier en présentiel
ATTACH;FMTTYPE=image/jpeg:https://poussesdescience.fr/wp-content/uploads/2023/08/Club-IEF-La-Roue.jpg
END:VEVENT
BEGIN:VEVENT
DTSTART;TZID=Europe/Paris:20240413T100000
DTEND;TZID=Europe/Paris:20240413T123000
DTSTAMP:20260426T024116
CREATED:20240329T093605Z
LAST-MODIFIED:20260323T192256Z
UID:3403-1713002400-1713011400@poussesdescience.fr
SUMMARY:Club de Science de la Roue
DESCRIPTION:Le Club de Science c’est un RDV scientifique un samedi par mois pour tous les curieux entre 4 et 12 ans.   \n\n\n\nVous pouvez dès à présent y inscrire votre enfant : les dates sont indiquées dans le visuel. Deux créneaux sont possibles : de 10h à 11h pour les 4-6 ans et de 11h30 à 12h30 pour les 7-12 ans.  \n\n\n\nCette année\, le club s’articulera autour de trois grandes thématiques (une par trimestre) :  \n\n\n\n– pour les 4-6 ans : Astronomie\, Zoologie et Physique ;  \n\n\n\n– pour les 7-12 ans : Chimie\, Zoologie et Physique.  \n\n\n\nPour cet atelier\, nous explorerons le son et la physique acoustique.  \n\n\n\n16€ l’atelier \n\n\n\nInscription par le formulaire de contact
URL:https://poussesdescience.fr/event/club-de-science-de-la-roue-11/
LOCATION:La Roue\, 8 rue Mazet\, Chabeuil\, France
CATEGORIES:Atelier en présentiel
ATTACH;FMTTYPE=image/jpeg:https://poussesdescience.fr/wp-content/uploads/2024/03/Club-Sam-24-Insta.jpg
END:VEVENT
BEGIN:VEVENT
DTSTART;TZID=Europe/Paris:20240414T100000
DTEND;TZID=Europe/Paris:20240414T110000
DTSTAMP:20260426T024116
CREATED:20240329T094019Z
LAST-MODIFIED:20260323T192447Z
UID:3406-1713088800-1713092400@poussesdescience.fr
SUMMARY:VISIO : Science des couleurs
DESCRIPTION:Pour cet atelier\, nous partirons à la découverte de la « Science des couleurs« \, en explorant lumière blanche et illusions d’optiques par le biais d’expériences et fabrications créatives.  \n\n\n\nTarif unique pour toute la famille\, participation conseillée de 6 à 99 ans. Infos et inscription avec le formulaire de contact.
URL:https://poussesdescience.fr/event/visio-science-des-couleurs/
CATEGORIES:Atelier en visio
ATTACH;FMTTYPE=image/jpeg:https://poussesdescience.fr/wp-content/uploads/2024/03/59.jpg
END:VEVENT
BEGIN:VEVENT
DTSTART;TZID=Europe/Paris:20240415T100000
DTEND;TZID=Europe/Paris:20240415T110000
DTSTAMP:20260426T024116
CREATED:20240329T094933Z
LAST-MODIFIED:20260323T192447Z
UID:3410-1713175200-1713178800@poussesdescience.fr
SUMMARY:VISIO : La main à la pâte - secrets du slime
DESCRIPTION:Pendant cet atelier\, nous explorerons les secrets de la viscosité avec la fabrication de slime et autres fluides délicieusement dégoutants !  \n\n\n\nRDV pour un mini stage du lundi 15 au mercredi 17 avril de 10h à 11h\, avec les ateliers « La main à la pâte – les secrets de la viscosité du Slime« \, « La science des bulles » et « Science et papier\, le défi du pont en papier« \, trois ateliers pour explorer la matière et s’amuser tout en apprenant (tarif 3 jours 35€ par famille). \n\n\n\nTarif unique pour toute la famille\, participation conseillée de 6 à 99 ans. Infos et inscription avec le formulaire de contact.
URL:https://poussesdescience.fr/event/visio-la-main-a-la-pate-secrets-du-slime/
CATEGORIES:Atelier en visio
ATTACH;FMTTYPE=image/jpeg:https://poussesdescience.fr/wp-content/uploads/2024/03/60.jpg
END:VEVENT
BEGIN:VEVENT
DTSTART;TZID=Europe/Paris:20240416T100000
DTEND;TZID=Europe/Paris:20240416T110000
DTSTAMP:20260426T024116
CREATED:20240329T095357Z
LAST-MODIFIED:20260323T192447Z
UID:3413-1713261600-1713265200@poussesdescience.fr
SUMMARY:VISIO : Science des bulles
DESCRIPTION:Avec l’atelier « Science des bulles »\, c’est parti pour expérimenter et comprendre la physique des bulles de savon. \n\n\n\nRDV pour un mini stage du lundi 15 au mercredi 17 avril de 10h à 11h\, avec les ateliers « La main à la pâte – les secrets de la viscosité du Slime« \, « La science des bulles » et « Science et papier\, le défi du pont en papier« \, trois ateliers pour explorer la matière et s’amuser tout en apprenant (tarif 3 jours 35€ par famille). \n\n\n\nTarif unique pour toute la famille\, participation conseillée de 6 à 99 ans. Infos et inscription avec le formulaire de contact.
URL:https://poussesdescience.fr/event/visio-science-des-bulles-2/
CATEGORIES:Atelier en visio
ATTACH;FMTTYPE=image/jpeg:https://poussesdescience.fr/wp-content/uploads/2024/03/61.jpg
END:VEVENT
BEGIN:VEVENT
DTSTART;TZID=Europe/Paris:20240417T100000
DTEND;TZID=Europe/Paris:20240417T110000
DTSTAMP:20260426T024116
CREATED:20240329T100010Z
LAST-MODIFIED:20260323T192447Z
UID:3416-1713348000-1713351600@poussesdescience.fr
SUMMARY:VISIO : Science et Papier - défi du pont en papier
DESCRIPTION:Le prochain atelier scientifique à distance nous amènera à explorer un matériau bien connu des écoliers : le papier !  \n\n\n\nAu programme de cet atelier : un défi autour de la construction d’un pont en papier. L’occasion pour vos petits curieux de mettre en pratique la démarche scientifique et expérimentale. \n\n\n\nTarif unique pour toute la famille\, participation conseillée de 6 à 99 ans. Infos et inscription avec le formulaire de contact. \n\n\n\nRDV pour un mini stage du lundi 15 au mercredi 17 avril de 10h à 11h\, avec les ateliers « La main à la pâte – les secrets de la viscosité du Slime« \, « La science des bulles » et « Science et papier\, le défi du pont en papier« \, trois ateliers pour explorer la matière et s’amuser tout en apprenant (tarif 3 jours 35€ par famille).
URL:https://poussesdescience.fr/event/visio-science-et-papier-defi-du-pont-en-papier/
CATEGORIES:Atelier en visio
ATTACH;FMTTYPE=image/jpeg:https://poussesdescience.fr/wp-content/uploads/2024/03/62-1.jpg
END:VEVENT
BEGIN:VEVENT
DTSTART;TZID=Europe/Paris:20240419T100000
DTEND;TZID=Europe/Paris:20240419T120000
DTSTAMP:20260426T024116
CREATED:20240329T100314Z
LAST-MODIFIED:20260323T191704Z
UID:3420-1713520800-1713528000@poussesdescience.fr
SUMMARY:Atelier scientifique : Quoi de n'oeuf ?!
DESCRIPTION:Un nouvel atelier à la Ferme des Volonteux pendant les vacances de Pâques pour les 6-12 ans ! \n\n\n\nAvec l’atelier « Quoi de n’Oeuf ? »\, l’oeuf sera au centre de notre attention : dissection\, manipulations\, expériences et défis guideront les enfants dans leur découverte des mystères sous la coquille.  \n\n\n\nAccessible de 6 à 12 ans. Tarif 25€. Inscription par le formulaire de contact.
URL:https://poussesdescience.fr/event/atelier-scientifique-quoi-de-noeuf/
LOCATION:Ferme des Volonteux\, Le Volonteux\, Beaumont-lès-Valence\, 26760\, France
ATTACH;FMTTYPE=image/jpeg:https://poussesdescience.fr/wp-content/uploads/2024/03/volonteux-19-avril-oeuf.jpg
END:VEVENT
END:VCALENDAR