BEGIN:VCALENDAR
VERSION:2.0
PRODID:-//Pousses de science - ECPv6.15.20//NONSGML v1.0//EN
CALSCALE:GREGORIAN
METHOD:PUBLISH
X-WR-CALNAME:Pousses de science
X-ORIGINAL-URL:https://poussesdescience.fr
X-WR-CALDESC:Évènements pour Pousses de science
REFRESH-INTERVAL;VALUE=DURATION:PT1H
X-Robots-Tag:noindex
X-PUBLISHED-TTL:PT1H
BEGIN:VTIMEZONE
TZID:Europe/Paris
BEGIN:DAYLIGHT
TZOFFSETFROM:+0100
TZOFFSETTO:+0200
TZNAME:CEST
DTSTART:20230326T010000
END:DAYLIGHT
BEGIN:STANDARD
TZOFFSETFROM:+0200
TZOFFSETTO:+0100
TZNAME:CET
DTSTART:20231029T010000
END:STANDARD
BEGIN:DAYLIGHT
TZOFFSETFROM:+0100
TZOFFSETTO:+0200
TZNAME:CEST
DTSTART:20240331T010000
END:DAYLIGHT
BEGIN:STANDARD
TZOFFSETFROM:+0200
TZOFFSETTO:+0100
TZNAME:CET
DTSTART:20241027T010000
END:STANDARD
BEGIN:DAYLIGHT
TZOFFSETFROM:+0100
TZOFFSETTO:+0200
TZNAME:CEST
DTSTART:20250330T010000
END:DAYLIGHT
BEGIN:STANDARD
TZOFFSETFROM:+0200
TZOFFSETTO:+0100
TZNAME:CET
DTSTART:20251026T010000
END:STANDARD
END:VTIMEZONE
BEGIN:VEVENT
DTSTART;TZID=Europe/Paris:20240604T100000
DTEND;TZID=Europe/Paris:20240604T110000
DTSTAMP:20260426T001528
CREATED:20240524T075718Z
LAST-MODIFIED:20260323T192446Z
UID:3552-1717495200-1717498800@poussesdescience.fr
SUMMARY:VISIO : La main à la pâte
DESCRIPTION:Le mardi 4 juin de 10h à 11h pour le dernier créneau des familles en IEF de cette année scolaire avec un atelier délicieusement dégoutant à la découverte de la viscosité et des secrets du « slime » : « La main à la pâte ». \n\n\n\nTarif unique pour toute la famille\, participation conseillée de 6 à 99 ans. Infos et inscription avec le formulaire de contact.
URL:https://poussesdescience.fr/event/visio-la-main-a-la-pate-2/
CATEGORIES:Atelier en visio
ATTACH;FMTTYPE=image/jpeg:https://poussesdescience.fr/wp-content/uploads/2024/05/57-1.jpg
END:VEVENT
BEGIN:VEVENT
DTSTART;TZID=Europe/Paris:20240609T100000
DTEND;TZID=Europe/Paris:20240609T110000
DTSTAMP:20260426T001528
CREATED:20240524T080006Z
LAST-MODIFIED:20260323T192446Z
UID:3556-1717927200-1717930800@poussesdescience.fr
SUMMARY:VISIO : Potions magiques ou scientifiques ?
DESCRIPTION:Le dimanche 9 juin de 10h à 11h pour un nouvel atelier plein de magie et de chimie : « Potions magiques ou scientifiques ? ». \n\n\n\nTarif unique pour toute la famille\, participation conseillée de 6 à 99 ans. Infos et inscription avec le formulaire de contact.
URL:https://poussesdescience.fr/event/visio-potions-magiques-ou-scientifiques/
CATEGORIES:Atelier en visio
ATTACH;FMTTYPE=image/jpeg:https://poussesdescience.fr/wp-content/uploads/2024/05/58.jpg
END:VEVENT
BEGIN:VEVENT
DTSTART;TZID=Europe/Paris:20240611T093000
DTEND;TZID=Europe/Paris:20240611T120000
DTSTAMP:20260426T001528
CREATED:20240524T080246Z
LAST-MODIFIED:20260323T192256Z
UID:3559-1718098200-1718107200@poussesdescience.fr
SUMMARY:Club de Science de la Roue – Spécial IEF
DESCRIPTION:Le Club de science spécial IEF est un RDV mensuel scientifique pour tous les enfants scolarisés à maison. \n\n\n\nUn mardi par mois\, nous explorerons une thématique et des concepts scientifiques au fil des expériences et manipulations ludiques. A la clé : plaisir d’apprendre\, joie de découvrir et bonheur de faire grandir notre curiosité !  \n\n\n\nCette année\, le club s’articulera autour de trois grandes thématiques (une par trimestre) :  \n\n\n\n– Astronomie\, Zoologie et physique pour les 4-6 ans ;  \n\n\n\n– Chimie\, Zoologie et physique/optique pour les 7-12 ans.  \n\n\n\nPour cet atelier\, nous explorerons les forces électro-magnétiques et les aimants.  \n\n\n\nVous pouvez dès à présent inscrire votre enfant au club de science : les dates sont indiquées dans le visuel.  \n\n\n\nDeux créneaux sont possibles : de 9h30 à 10h30 pour les 4-6 ans et de 11h à 12h pour les 7-12 ans. 
URL:https://poussesdescience.fr/event/club-de-science-de-la-roue-special-ief-10/
LOCATION:La Roue\, 8 rue Mazet\, Chabeuil\, France
CATEGORIES:Atelier en présentiel
ATTACH;FMTTYPE=image/jpeg:https://poussesdescience.fr/wp-content/uploads/2023/08/Club-IEF-La-Roue.jpg
END:VEVENT
BEGIN:VEVENT
DTSTART;TZID=Europe/Paris:20240615T100000
DTEND;TZID=Europe/Paris:20240615T123000
DTSTAMP:20260426T001528
CREATED:20240524T080514Z
LAST-MODIFIED:20260323T192256Z
UID:3561-1718445600-1718454600@poussesdescience.fr
SUMMARY:Club de Science de la Roue
DESCRIPTION:Le Club de Science c’est un RDV scientifique un samedi par mois pour tous les curieux entre 4 et 12 ans.   \n\n\n\nVous pouvez dès à présent y inscrire votre enfant : les dates sont indiquées dans le visuel. Deux créneaux sont possibles : de 10h à 11h pour les 4-6 ans et de 11h30 à 12h30 pour les 7-12 ans.  \n\n\n\nCette année\, le club s’articulera autour de trois grandes thématiques (une par trimestre) :  \n\n\n\n– pour les 4-6 ans : Astronomie\, Zoologie et Physique ;  \n\n\n\n– pour les 7-12 ans : Chimie\, Zoologie et Physique.  \n\n\n\nPour cet atelier\, nous explorerons les forces électro-magnétiques et les aimants. \n\n\n\nInscription par le formulaire de contact
URL:https://poussesdescience.fr/event/club-de-science-de-la-roue-13/
LOCATION:La Roue\, 8 rue Mazet\, Chabeuil\, France
CATEGORIES:Atelier en présentiel
ATTACH;FMTTYPE=image/jpeg:https://poussesdescience.fr/wp-content/uploads/2024/03/Club-Sam-24-Insta.jpg
END:VEVENT
END:VCALENDAR