BEGIN:VCALENDAR
VERSION:2.0
PRODID:-//Pousses de science - ECPv6.15.20//NONSGML v1.0//EN
CALSCALE:GREGORIAN
METHOD:PUBLISH
X-WR-CALNAME:Pousses de science
X-ORIGINAL-URL:https://poussesdescience.fr
X-WR-CALDESC:Évènements pour Pousses de science
REFRESH-INTERVAL;VALUE=DURATION:PT1H
X-Robots-Tag:noindex
X-PUBLISHED-TTL:PT1H
BEGIN:VTIMEZONE
TZID:Europe/Paris
BEGIN:DAYLIGHT
TZOFFSETFROM:+0100
TZOFFSETTO:+0200
TZNAME:CEST
DTSTART:20230326T010000
END:DAYLIGHT
BEGIN:STANDARD
TZOFFSETFROM:+0200
TZOFFSETTO:+0100
TZNAME:CET
DTSTART:20231029T010000
END:STANDARD
BEGIN:DAYLIGHT
TZOFFSETFROM:+0100
TZOFFSETTO:+0200
TZNAME:CEST
DTSTART:20240331T010000
END:DAYLIGHT
BEGIN:STANDARD
TZOFFSETFROM:+0200
TZOFFSETTO:+0100
TZNAME:CET
DTSTART:20241027T010000
END:STANDARD
BEGIN:DAYLIGHT
TZOFFSETFROM:+0100
TZOFFSETTO:+0200
TZNAME:CEST
DTSTART:20250330T010000
END:DAYLIGHT
BEGIN:STANDARD
TZOFFSETFROM:+0200
TZOFFSETTO:+0100
TZNAME:CET
DTSTART:20251026T010000
END:STANDARD
END:VTIMEZONE
BEGIN:VEVENT
DTSTART;TZID=Europe/Paris:20241119T093000
DTEND;TZID=Europe/Paris:20241119T120000
DTSTAMP:20260425T171242
CREATED:20241104T154248Z
LAST-MODIFIED:20260323T192256Z
UID:3586-1732008600-1732017600@poussesdescience.fr
SUMMARY:Club de science de la Roue SPECIAL IEF
DESCRIPTION:Le Club de science spécial IEF est un RDV mensuel scientifique pour tous les enfants scolarisés à maison. \n\n\n\nUn mardi par mois\, nous explorerons une thématique et des concepts scientifiques au fil des expériences et manipulations ludiques. A la clé : plaisir d’apprendre\, joie de découvrir et bonheur de faire grandir notre curiosité !  \n\n\n\nCette année\, le club s’articulera autour de trois grandes thématiques (une par trimestre) :  \n\n\n\n– Corps humain et Biologie \n\n\n\n– Ingénierie et physique  \n\n\n\n– Environnement et Nature \n\n\n\nPour cet atelier\, nous partirons à la découverte du squelette et des os. \n\n\n\nVous pouvez dès à présent inscrire votre enfant au club de science : les dates sont indiquées dans le visuel.  \n\n\n\nDeux créneaux sont possibles : de 9h30 à 10h30 pour les 4-6 ans et de 11h à 12h pour les 7-12 ans. 
URL:https://poussesdescience.fr/event/club-de-science-de-la-roue-special-ief-12/
LOCATION:La Roue\, 8 rue Mazet\, Chabeuil\, France
CATEGORIES:Atelier en présentiel
ATTACH;FMTTYPE=image/jpeg:https://poussesdescience.fr/wp-content/uploads/2024/09/1.jpg
END:VEVENT
BEGIN:VEVENT
DTSTART;TZID=Europe/Paris:20241123T093000
DTEND;TZID=Europe/Paris:20241123T120000
DTSTAMP:20260425T171242
CREATED:20241104T155906Z
LAST-MODIFIED:20260323T192255Z
UID:3588-1732354200-1732363200@poussesdescience.fr
SUMMARY:Club de Science de la Roue
DESCRIPTION:Le Club de Science c’est un RDV scientifique un samedi par mois pour tous les curieux entre 4 et 12 ans.   \n\n\n\nVous pouvez dès à présent y inscrire votre enfant : les dates sont indiquées dans le visuel. Deux créneaux sont possibles : de 10h à 11h pour les 4-6 ans et de 11h30 à 12h30 pour les 7-12 ans.  \n\n\n\nCette année\, le club s’articulera autour de trois grandes thématiques (une par trimestre) :  \n\n\n\n– Corps humain et Biologie \n\n\n\n– Ingénierie et physique  \n\n\n\n– Environnement et Nature \n\n\n\nPour cet atelier\, nous partirons à la découverte des os et du squelette. \n\n\n\nInscription par le formulaire de contact
URL:https://poussesdescience.fr/event/club-de-science-de-la-roue-15/
LOCATION:La Roue\, 8 rue Mazet\, Chabeuil\, France
CATEGORIES:Atelier en présentiel
ATTACH;FMTTYPE=image/jpeg:https://poussesdescience.fr/wp-content/uploads/2024/09/2.jpg
END:VEVENT
BEGIN:VEVENT
DTSTART;TZID=Europe/Paris:20241126T100000
DTEND;TZID=Europe/Paris:20241126T110000
DTSTAMP:20260425T171242
CREATED:20241104T160814Z
LAST-MODIFIED:20260323T192446Z
UID:3590-1732615200-1732618800@poussesdescience.fr
SUMMARY:VISIO : Potions magiques ou scientifiques ?!
DESCRIPTION:Avec l’atelier  » Potions magiques ou scientifiques ?! « \, les enfants se plongent dans le monde de la chimie de manière ludique et amusante. Au programme\, des expériences surprenantes et apprenantes pour accompagner vos enfants dans la création de potions de véritables alchimistes en herbe.  \n\n\n\nTarif unique pour toute la famille\, participation conseillée de 6 à 99 ans. Infos et inscription avec le formulaire de contact.
URL:https://poussesdescience.fr/event/visio-potions-magiques-ou-scientifiques-2/
CATEGORIES:Atelier en visio
ATTACH;FMTTYPE=image/jpeg:https://poussesdescience.fr/wp-content/uploads/2024/11/visio-potions-26-nov-IEF.jpg
END:VEVENT
END:VCALENDAR