BEGIN:VCALENDAR
VERSION:2.0
PRODID:-//Pousses de science - ECPv6.15.20//NONSGML v1.0//EN
CALSCALE:GREGORIAN
METHOD:PUBLISH
X-WR-CALNAME:Pousses de science
X-ORIGINAL-URL:https://poussesdescience.fr
X-WR-CALDESC:Évènements pour Pousses de science
REFRESH-INTERVAL;VALUE=DURATION:PT1H
X-Robots-Tag:noindex
X-PUBLISHED-TTL:PT1H
BEGIN:VTIMEZONE
TZID:Europe/Paris
BEGIN:DAYLIGHT
TZOFFSETFROM:+0100
TZOFFSETTO:+0200
TZNAME:CEST
DTSTART:20230326T010000
END:DAYLIGHT
BEGIN:STANDARD
TZOFFSETFROM:+0200
TZOFFSETTO:+0100
TZNAME:CET
DTSTART:20231029T010000
END:STANDARD
BEGIN:DAYLIGHT
TZOFFSETFROM:+0100
TZOFFSETTO:+0200
TZNAME:CEST
DTSTART:20240331T010000
END:DAYLIGHT
BEGIN:STANDARD
TZOFFSETFROM:+0200
TZOFFSETTO:+0100
TZNAME:CET
DTSTART:20241027T010000
END:STANDARD
BEGIN:DAYLIGHT
TZOFFSETFROM:+0100
TZOFFSETTO:+0200
TZNAME:CEST
DTSTART:20250330T010000
END:DAYLIGHT
BEGIN:STANDARD
TZOFFSETFROM:+0200
TZOFFSETTO:+0100
TZNAME:CET
DTSTART:20251026T010000
END:STANDARD
END:VTIMEZONE
BEGIN:VEVENT
DTSTART;TZID=Europe/Paris:20241207T093000
DTEND;TZID=Europe/Paris:20241207T120000
DTSTAMP:20260425T155333
CREATED:20241201T101530Z
LAST-MODIFIED:20260323T192255Z
UID:3597-1733563800-1733572800@poussesdescience.fr
SUMMARY:Club de Science à la Roue
DESCRIPTION:Le Club de Science c’est un RDV scientifique un samedi par mois pour tous les curieux entre 4 et 12 ans.   \n\n\n\nVous pouvez dès à présent y inscrire votre enfant : les dates sont indiquées dans le visuel. Deux créneaux sont possibles : de 10h à 11h pour les 4-6 ans et de 11h30 à 12h30 pour les 7-12 ans.  \n\n\n\nCette année\, le club s’articulera autour de trois grandes thématiques (une par trimestre) :  \n\n\n\n– Corps humain et Biologie \n\n\n\n– Ingénierie et physique  \n\n\n\n– Environnement et Nature \n\n\n\nPour cet atelier\, nous partirons à la découverte de l’infiniment petit et de l’ADN et des cellules. \n\n\n\nInscription par le formulaire de contact
URL:https://poussesdescience.fr/event/club-de-science-a-la-roue/
LOCATION:La Roue\, 8 rue Mazet\, Chabeuil\, France
CATEGORIES:Atelier en présentiel
ATTACH;FMTTYPE=image/jpeg:https://poussesdescience.fr/wp-content/uploads/2024/09/2.jpg
END:VEVENT
BEGIN:VEVENT
DTSTART;TZID=Europe/Paris:20241210T100000
DTEND;TZID=Europe/Paris:20241210T110000
DTSTAMP:20260425T155333
CREATED:20241201T102132Z
LAST-MODIFIED:20260323T192446Z
UID:3599-1733824800-1733828400@poussesdescience.fr
SUMMARY:VISIO : Invitation dans ton cerveau
DESCRIPTION:Avec l’atelier  « Invitation dans ton cerveau« \, les enfants se plongent dans les mystères de cet organe passionnant et essentiel.  \n\n\n\nTarif unique pour toute la famille\, participation conseillée de 6 à 99 ans. Infos et inscription avec le formulaire de contact.
URL:https://poussesdescience.fr/event/visio-invitation-dans-ton-cerveau-2/
CATEGORIES:Atelier en visio
ATTACH;FMTTYPE=image/jpeg:https://poussesdescience.fr/wp-content/uploads/2024/12/Les-ateliers-scientifiques-des-vacances-davril-Semaine-du-17-au-21-avril-1.jpg
END:VEVENT
BEGIN:VEVENT
DTSTART;TZID=Europe/Paris:20241217T093000
DTEND;TZID=Europe/Paris:20241217T120000
DTSTAMP:20260425T155333
CREATED:20241201T102408Z
LAST-MODIFIED:20260323T192255Z
UID:3602-1734427800-1734436800@poussesdescience.fr
SUMMARY:Club de science de la Roue SPECIAL IEF
DESCRIPTION:Le Club de science spécial IEF est un RDV mensuel scientifique pour tous les enfants scolarisés à maison. \n\n\n\nUn mardi par mois\, nous explorerons une thématique et des concepts scientifiques au fil des expériences et manipulations ludiques. A la clé : plaisir d’apprendre\, joie de découvrir et bonheur de faire grandir notre curiosité !  \n\n\n\nCette année\, le club s’articulera autour de trois grandes thématiques (une par trimestre) :  \n\n\n\n– Corps humain et Biologie \n\n\n\n– Ingénierie et physique  \n\n\n\n– Environnement et Nature \n\n\n\nPour cet atelier\, nous partirons à la découverte des cellules et de l’ADN. \n\n\n\nVous pouvez dès à présent inscrire votre enfant au club de science : les dates sont indiquées dans le visuel.  \n\n\n\nDeux créneaux sont possibles : de 9h30 à 10h30 pour les 4-6 ans et de 11h à 12h pour les 7-12 ans. 
URL:https://poussesdescience.fr/event/club-de-science-de-la-roue-special-ief-13/
LOCATION:La Roue\, 8 rue Mazet\, Chabeuil\, France
CATEGORIES:Atelier en présentiel
ATTACH;FMTTYPE=image/jpeg:https://poussesdescience.fr/wp-content/uploads/2024/09/1.jpg
END:VEVENT
END:VCALENDAR