BEGIN:VCALENDAR
VERSION:2.0
PRODID:-//Pousses de science - ECPv6.15.20//NONSGML v1.0//EN
CALSCALE:GREGORIAN
METHOD:PUBLISH
X-WR-CALNAME:Pousses de science
X-ORIGINAL-URL:https://poussesdescience.fr
X-WR-CALDESC:Évènements pour Pousses de science
REFRESH-INTERVAL;VALUE=DURATION:PT1H
X-Robots-Tag:noindex
X-PUBLISHED-TTL:PT1H
BEGIN:VTIMEZONE
TZID:Europe/Paris
BEGIN:DAYLIGHT
TZOFFSETFROM:+0100
TZOFFSETTO:+0200
TZNAME:CEST
DTSTART:20240331T010000
END:DAYLIGHT
BEGIN:STANDARD
TZOFFSETFROM:+0200
TZOFFSETTO:+0100
TZNAME:CET
DTSTART:20241027T010000
END:STANDARD
BEGIN:DAYLIGHT
TZOFFSETFROM:+0100
TZOFFSETTO:+0200
TZNAME:CEST
DTSTART:20250330T010000
END:DAYLIGHT
BEGIN:STANDARD
TZOFFSETFROM:+0200
TZOFFSETTO:+0100
TZNAME:CET
DTSTART:20251026T010000
END:STANDARD
BEGIN:DAYLIGHT
TZOFFSETFROM:+0100
TZOFFSETTO:+0200
TZNAME:CEST
DTSTART:20260329T010000
END:DAYLIGHT
BEGIN:STANDARD
TZOFFSETFROM:+0200
TZOFFSETTO:+0100
TZNAME:CET
DTSTART:20261025T010000
END:STANDARD
END:VTIMEZONE
BEGIN:VEVENT
DTSTART;TZID=Europe/Paris:20250916T100000
DTEND;TZID=Europe/Paris:20250916T110000
DTSTAMP:20260425T024545
CREATED:20250911T142529Z
LAST-MODIFIED:20260323T192446Z
UID:3649-1758016800-1758020400@poussesdescience.fr
SUMMARY:VISIO : De l’électricité dans l’air
DESCRIPTION:C’est parti pour l’exploration de l’électricité statique au fil d’expériences amusantes et surprenantes ! Atomes et électrons n’auront plus de secrets pour vos enfants après cet atelier ! La liste du matériel est fournie lors de l’inscription (matériel accessible et facile à trouver chez soi)\, lien de connexion (Zoom) et modalités de paiement (Paypal ou virement bancaire) sont aussi envoyés par mail.  \n\n\n\nTarif unique pour toute la famille\, participation conseillée de 6 à 99 ans. Infos et inscription avec le formulaire de contact.
URL:https://poussesdescience.fr/event/visio-de-lelectricite-dans-lair-2/
CATEGORIES:Atelier en visio
ATTACH;FMTTYPE=image/jpeg:https://poussesdescience.fr/wp-content/uploads/2025/09/Les-ateliers-scientifiques-des-vacances-davril-Semaine-du-17-au-21-avril-.jpg
END:VEVENT
BEGIN:VEVENT
DTSTART;TZID=Europe/Paris:20250918T173000
DTEND;TZID=Europe/Paris:20250918T183000
DTSTAMP:20260425T024545
CREATED:20250911T143844Z
LAST-MODIFIED:20260323T192446Z
UID:3652-1758216600-1758220200@poussesdescience.fr
SUMMARY:VISIO : Science des Bulles
DESCRIPTION:Un atelier pour souffler après l’école et s’émerveiller le temps d’une parenthèse scientifique en famille. Expériences et défis autour des bulles épateront vos enfants pour cet atelier léger et ressourçant !  \n\n\n\nLa liste du matériel est fournie lors de l’inscription (matériel accessible et facile à trouver chez soi)\, lien de connexion (Zoom) et modalités de paiement (Paypal ou virement bancaire) sont aussi envoyés par mail.  \n\n\n\nTarif unique pour toute la famille\, participation conseillée de 6 à 99 ans. Infos et inscription avec le formulaire de contact.
URL:https://poussesdescience.fr/event/visio-science-des-bulles-4/
CATEGORIES:Atelier en visio
ATTACH;FMTTYPE=image/jpeg:https://poussesdescience.fr/wp-content/uploads/2025/09/Les-ateliers-scientifiques-des-vacances-davril-Semaine-du-17-au-21-avril-1-1.jpg
END:VEVENT
BEGIN:VEVENT
DTSTART;TZID=Europe/Paris:20250923T093000
DTEND;TZID=Europe/Paris:20250923T120000
DTSTAMP:20260425T024545
CREATED:20250911T134625Z
LAST-MODIFIED:20260323T192255Z
UID:3646-1758619800-1758628800@poussesdescience.fr
SUMMARY:Club de science de la Roue SPECIAL IEF
DESCRIPTION:Le Club de science spécial IEF est un RDV mensuel scientifique pour tous les enfants scolarisés à maison. \n\n\n\nUn mardi par mois\, nous explorerons une thématique et des concepts scientifiques au fil des expériences et manipulations ludiques. A la clé : plaisir d’apprendre\, joie de découvrir et bonheur de faire grandir notre curiosité !  \n\n\n\nCette année\, le club s’articulera autour de trois grandes thématiques (une par trimestre) :  \n\n\n\n– Astronomie et Espace \n\n\n\n– Physique amusante de la matière \n\n\n\n– Science des animaux rigolos \n\n\n\nPour ce premier atelier\, nous commencerons notre conquête spatiale par l’exploration du monde des fusées.  \n\n\n\nVous pouvez dès à présent inscrire votre enfant au club de science : les dates sont indiquées dans le visuel.  \n\n\n\nDeux créneaux sont possibles : de 9h30 à 10h30 pour les 4-6 ans et de 11h à 12h pour les 7-12 ans. 
URL:https://poussesdescience.fr/event/club-de-science-de-la-roue-special-ief-15/
LOCATION:La Roue\, 8 rue Mazet\, Chabeuil\, France
CATEGORIES:Atelier en présentiel
ATTACH;FMTTYPE=image/jpeg:https://poussesdescience.fr/wp-content/uploads/2025/09/Les-ateliers-scientifiques-des-vacances-davril-Semaine-du-17-au-21-avril-1.jpg
END:VEVENT
END:VCALENDAR