BEGIN:VCALENDAR
VERSION:2.0
PRODID:-//Pousses de science - ECPv6.15.20//NONSGML v1.0//EN
CALSCALE:GREGORIAN
METHOD:PUBLISH
X-WR-CALNAME:Pousses de science
X-ORIGINAL-URL:https://poussesdescience.fr
X-WR-CALDESC:Évènements pour Pousses de science
REFRESH-INTERVAL;VALUE=DURATION:PT1H
X-Robots-Tag:noindex
X-PUBLISHED-TTL:PT1H
BEGIN:VTIMEZONE
TZID:Europe/Paris
BEGIN:DAYLIGHT
TZOFFSETFROM:+0100
TZOFFSETTO:+0200
TZNAME:CEST
DTSTART:20240331T010000
END:DAYLIGHT
BEGIN:STANDARD
TZOFFSETFROM:+0200
TZOFFSETTO:+0100
TZNAME:CET
DTSTART:20241027T010000
END:STANDARD
BEGIN:DAYLIGHT
TZOFFSETFROM:+0100
TZOFFSETTO:+0200
TZNAME:CEST
DTSTART:20250330T010000
END:DAYLIGHT
BEGIN:STANDARD
TZOFFSETFROM:+0200
TZOFFSETTO:+0100
TZNAME:CET
DTSTART:20251026T010000
END:STANDARD
BEGIN:DAYLIGHT
TZOFFSETFROM:+0100
TZOFFSETTO:+0200
TZNAME:CEST
DTSTART:20260329T010000
END:DAYLIGHT
BEGIN:STANDARD
TZOFFSETFROM:+0200
TZOFFSETTO:+0100
TZNAME:CET
DTSTART:20261025T010000
END:STANDARD
END:VTIMEZONE
BEGIN:VEVENT
DTSTART;TZID=Europe/Paris:20251011T093000
DTEND;TZID=Europe/Paris:20251011T120000
DTSTAMP:20260425T013613
CREATED:20251002T201628Z
LAST-MODIFIED:20260323T192255Z
UID:3658-1760175000-1760184000@poussesdescience.fr
SUMMARY:Club de science
DESCRIPTION:Le Club de Science c’est un RDV scientifique un samedi par mois pour tous les curieux entre 4 et 12 ans.   \n\n\n\nVous pouvez dès à présent y inscrire votre enfant : les dates sont indiquées dans le visuel. Deux créneaux sont possibles : de 9h30 à 10h30 pour les 4-6 ans et de 11h à 12h pour les 7-12 ans.  \n\n\n\nCette année\, le club s’articulera autour de trois grandes thématiques (une par trimestre) :  \n\n\n\n– Astronomie et Espace \n\n\n\n– Physique amusante de la matière \n\n\n\n– Science des animaux rigolos \n\n\n\nPour ce premier atelier\, nous commencerons notre conquête spatiale par l’exploration du monde des fusées.  \n\n\n\nVous pouvez dès à présent inscrire votre enfant au club de science : les dates sont indiquées dans le visuel.  \n\n\n\nInscription sur le formulaire de contact.
URL:https://poussesdescience.fr/event/club-de-science/
CATEGORIES:Atelier en présentiel
ATTACH;FMTTYPE=image/jpeg:https://poussesdescience.fr/wp-content/uploads/2025/10/Les-ateliers-scientifiques-des-vacances-davril-Semaine-du-17-au-21-avril-2.jpg
END:VEVENT
BEGIN:VEVENT
DTSTART;TZID=Europe/Paris:20251014T093000
DTEND;TZID=Europe/Paris:20251014T120000
DTSTAMP:20260425T013613
CREATED:20251006T105603Z
LAST-MODIFIED:20260323T192255Z
UID:3663-1760434200-1760443200@poussesdescience.fr
SUMMARY:Club de Science Spécial IEF
DESCRIPTION:Le Club de science spécial IEF est un RDV mensuel scientifique pour tous les enfants scolarisés à maison. \n\n\n\nUn mardi par mois\, nous explorerons une thématique et des concepts scientifiques au fil des expériences et manipulations ludiques. A la clé : plaisir d’apprendre\, joie de découvrir et bonheur de faire grandir notre curiosité !  \n\n\n\nCette année\, le club s’articulera autour de trois grandes thématiques (une par trimestre) :  \n\n\n\n– Astronomie et Espace \n\n\n\n– Physique amusante de la matière \n\n\n\n– Science des animaux rigolos \n\n\n\nPour ce deuxième atelier\, nous continuerons notre exploration spatiale par un voyage à travers du système solaire. \n\n\n\nVous pouvez dès à présent inscrire votre enfant au club de science : les dates sont indiquées dans le visuel.  \n\n\n\nDeux créneaux sont possibles : de 9h30 à 10h30 pour les 4-6 ans et de 11h à 12h pour les 7-12 ans. 
URL:https://poussesdescience.fr/event/club-de-science-special-ief/
LOCATION:La Roue\, 8 rue Mazet\, Chabeuil\, France
CATEGORIES:Atelier en présentiel
ATTACH;FMTTYPE=image/jpeg:https://poussesdescience.fr/wp-content/uploads/2025/09/Les-ateliers-scientifiques-des-vacances-davril-Semaine-du-17-au-21-avril-1.jpg
END:VEVENT
BEGIN:VEVENT
DTSTART;TZID=Europe/Paris:20251023T100000
DTEND;TZID=Europe/Paris:20251023T110000
DTSTAMP:20260425T013613
CREATED:20251006T111106Z
LAST-MODIFIED:20260323T192446Z
UID:3665-1761213600-1761217200@poussesdescience.fr
SUMMARY:VISIO - Science en automne
DESCRIPTION:En automne\, la nature se part de milles couleurs ! Mais savez vous pourquoi les arbres changent de couleur ?? Grâce à la chimie et l’astronomie\, les enfants seront guidés pour découvrir les mystères de cette jolie saison qu’est l’automne. À la clé\, expériences épatantes et découvertes pour faire briller les yeux !  \n\n\n\n La liste du matériel est fournie lors de l’inscription (matériel accessible et facile à trouver chez soi)\, lien de connexion (Zoom) et modalités de paiement (Paypal ou virement bancaire) sont aussi envoyés par mail.  \n\n\n\nTarif unique pour toute la famille\, participation conseillée de 6 à 99 ans. Infos et inscription avec le formulaire de contact.
URL:https://poussesdescience.fr/event/visio-science-en-automne-2/
CATEGORIES:Atelier en visio
ATTACH;FMTTYPE=image/jpeg:https://poussesdescience.fr/wp-content/uploads/2025/10/Les-ateliers-scientifiques-des-vacances-davril-Semaine-du-17-au-21-avril-.jpg
END:VEVENT
BEGIN:VEVENT
DTSTART;TZID=Europe/Paris:20251031T100000
DTEND;TZID=Europe/Paris:20251031T110000
DTSTAMP:20260425T013613
CREATED:20251006T110549Z
LAST-MODIFIED:20260323T192446Z
UID:3668-1761904800-1761908400@poussesdescience.fr
SUMMARY:VISIO : Potions magiques ou chimiques ?!
DESCRIPTION:Pour Halloween\, et si vous proposiez à votre enfant de se glisser dans la peau d’un savant fou\, d’une sorcière ou d’un alchimiste ? Un atelier parfait pour réaliser plusieurs recettes de potions et découvrir les principes chimiques sous-jacents. Idéal pour apprendre tout en s’amusant ! Et si votre enfant participait déguisé pour l’occasion ?! \n\n\n\nLa liste du matériel est fournie lors de l’inscription (matériel accessible et facile à trouver chez soi)\, lien de connexion (Zoom) et modalités de paiement (Paypal ou virement bancaire) sont aussi envoyés par mail.  \n\n\n\nTarif unique pour toute la famille\, participation conseillée de 6 à 99 ans. Infos et inscription avec le formulaire de contact.
URL:https://poussesdescience.fr/event/visio-potions-magiques-ou-chimiques/
CATEGORIES:Atelier en visio
ATTACH;FMTTYPE=image/jpeg:https://poussesdescience.fr/wp-content/uploads/2025/10/Les-ateliers-scientifiques-des-vacances-davril-Semaine-du-17-au-21-avril-1-1.jpg
END:VEVENT
END:VCALENDAR