BEGIN:VCALENDAR
VERSION:2.0
PRODID:-//Pousses de science - ECPv6.15.20//NONSGML v1.0//EN
CALSCALE:GREGORIAN
METHOD:PUBLISH
X-WR-CALNAME:Pousses de science
X-ORIGINAL-URL:https://poussesdescience.fr
X-WR-CALDESC:Évènements pour Pousses de science
REFRESH-INTERVAL;VALUE=DURATION:PT1H
X-Robots-Tag:noindex
X-PUBLISHED-TTL:PT1H
BEGIN:VTIMEZONE
TZID:Europe/Paris
BEGIN:DAYLIGHT
TZOFFSETFROM:+0100
TZOFFSETTO:+0200
TZNAME:CEST
DTSTART:20240331T010000
END:DAYLIGHT
BEGIN:STANDARD
TZOFFSETFROM:+0200
TZOFFSETTO:+0100
TZNAME:CET
DTSTART:20241027T010000
END:STANDARD
BEGIN:DAYLIGHT
TZOFFSETFROM:+0100
TZOFFSETTO:+0200
TZNAME:CEST
DTSTART:20250330T010000
END:DAYLIGHT
BEGIN:STANDARD
TZOFFSETFROM:+0200
TZOFFSETTO:+0100
TZNAME:CET
DTSTART:20251026T010000
END:STANDARD
BEGIN:DAYLIGHT
TZOFFSETFROM:+0100
TZOFFSETTO:+0200
TZNAME:CEST
DTSTART:20260329T010000
END:DAYLIGHT
BEGIN:STANDARD
TZOFFSETFROM:+0200
TZOFFSETTO:+0100
TZNAME:CET
DTSTART:20261025T010000
END:STANDARD
END:VTIMEZONE
BEGIN:VEVENT
DTSTART;TZID=Europe/Paris:20251120T173000
DTEND;TZID=Europe/Paris:20251120T183000
DTSTAMP:20260425T002053
CREATED:20251108T150529Z
LAST-MODIFIED:20260323T192446Z
UID:3679-1763659800-1763663400@poussesdescience.fr
SUMMARY:VISIO : De l’électricité dans l’air
DESCRIPTION:Un atelier scientifique pour découvrir l’électricité statique pour souffler après l’école et s’émerveiller le temps d’une parenthèse scientifique en famille. Expériences et défis autour de l’électricité statique et des atomes épateront vos enfants pour cet atelier électrique !  \n\n\n\nLa liste du matériel est fournie lors de l’inscription (matériel accessible et facile à trouver chez soi)\, lien de connexion (Zoom) et modalités de paiement (Paypal ou virement bancaire) sont aussi envoyés par mail.  \n\n\n\nTarif unique pour toute la famille\, participation conseillée de 6 à 99 ans. Infos et inscription avec le formulaire de contact
URL:https://poussesdescience.fr/event/visio-de-lelectricite-dans-lair-3/
CATEGORIES:Atelier en visio
ATTACH;FMTTYPE=image/jpeg:https://poussesdescience.fr/wp-content/uploads/2025/11/Les-ateliers-scientifiques-des-vacances-davril-Semaine-du-17-au-21-avril-.jpg
END:VEVENT
BEGIN:VEVENT
DTSTART;TZID=Europe/Paris:20251122T093000
DTEND;TZID=Europe/Paris:20251122T120000
DTSTAMP:20260425T002053
CREATED:20251108T145619Z
LAST-MODIFIED:20260323T192255Z
UID:3675-1763803800-1763812800@poussesdescience.fr
SUMMARY:CLUB de SCIENCE
DESCRIPTION:Le Club de Science c’est un RDV scientifique un samedi par mois pour tous les curieux entre 4 et 12 ans.   \n\n\n\nVous pouvez dès à présent y inscrire votre enfant : les dates sont indiquées dans le visuel. Deux créneaux sont possibles : de 9h30 à 10h30 pour les 4-6 ans et de 11h à 12h pour les 7-12 ans.  \n\n\n\nCette année\, le club s’articulera autour de trois grandes thématiques (une par trimestre) :  \n\n\n\n– Astronomie et Espace \n\n\n\n– Physique amusante de la matière \n\n\n\n– Science des animaux rigolos \n\n\n\nPour cet atelier\, nous partirons à la découverte des étoiles\, des constellations et des nébuleuses. \n\n\n\nVous pouvez dès à présent inscrire votre enfant au club de science : les dates sont indiquées dans le visuel.  \n\n\n\nInscription sur le formulaire de contact.
URL:https://poussesdescience.fr/event/club-de-science-2/
LOCATION:La Roue\, 8 rue Mazet\, Chabeuil\, France
CATEGORIES:Atelier en présentiel
ATTACH;FMTTYPE=image/jpeg:https://poussesdescience.fr/wp-content/uploads/2025/10/Les-ateliers-scientifiques-des-vacances-davril-Semaine-du-17-au-21-avril-2.jpg
END:VEVENT
BEGIN:VEVENT
DTSTART;TZID=Europe/Paris:20251125T093000
DTEND;TZID=Europe/Paris:20251125T114500
DTSTAMP:20260425T002053
CREATED:20251108T150023Z
LAST-MODIFIED:20260323T192255Z
UID:3677-1764063000-1764071100@poussesdescience.fr
SUMMARY:CLUB de Science Spécial IEF
DESCRIPTION:Le Club de science spécial IEF est un RDV mensuel scientifique pour tous les enfants scolarisés à maison. \n\n\n\nUn mardi par mois\, nous explorerons une thématique et des concepts scientifiques au fil des expériences et manipulations ludiques. A la clé : plaisir d’apprendre\, joie de découvrir et bonheur de faire grandir notre curiosité !  \n\n\n\nCette année\, le club s’articulera autour de trois grandes thématiques (une par trimestre) :  \n\n\n\n– Astronomie et Espace \n\n\n\n– Physique amusante de la matière \n\n\n\n– Science des animaux rigolos \n\n\n\nPour cet atelier\, nous partirons à la découverte des étoiles\, des constellations et des nébuleuses.  \n\n\n\nVous pouvez dès à présent inscrire votre enfant au club de science : les dates sont indiquées dans le visuel.  \n\n\n\nDeux créneaux sont possibles : de 9h30 à 10h30 pour les 4-6 ans et de 10h45 à 11h45 pour les 7-12 ans. \n\n\n\nInscription sur le formulaire de contact.
URL:https://poussesdescience.fr/event/club-de-science-special-ief-2/
LOCATION:La Roue\, 8 rue Mazet\, Chabeuil\, France
CATEGORIES:Atelier en présentiel
ATTACH;FMTTYPE=image/jpeg:https://poussesdescience.fr/wp-content/uploads/2025/09/Les-ateliers-scientifiques-des-vacances-davril-Semaine-du-17-au-21-avril-1.jpg
END:VEVENT
BEGIN:VEVENT
DTSTART;TZID=Europe/Paris:20251125T140000
DTEND;TZID=Europe/Paris:20251125T150000
DTSTAMP:20260425T002053
CREATED:20251108T160006Z
LAST-MODIFIED:20260323T192445Z
UID:3684-1764079200-1764082800@poussesdescience.fr
SUMMARY:VISIO : Miroir\, mon beau miroir
DESCRIPTION:Une nouvelle thématique pour ce créneau spécial pour les enfants en IEF ! Venez découvrir les mystères de la réflexion et des miroirs avec des expériences amusantes et surprenantes. À la clé de cet atelier\, la fabrication d’un téléidoscope\, si vous ne savez pas ce que c’est vous l’apprendrez pendant l’atelier !   \n\n\n\nLa liste du matériel est fournie lors de l’inscription (matériel accessible et facile à trouver chez soi)\, lien de connexion (Zoom) et modalités de paiement (Paypal ou virement bancaire) sont aussi envoyés par mail.  \n\n\n\nTarif unique pour toute la famille\, participation conseillée de 6 à 99 ans. Infos et inscription avec le formulaire de contact
URL:https://poussesdescience.fr/event/visio-miroir-mon-beau-miroir/
CATEGORIES:Atelier en visio
ATTACH;FMTTYPE=image/jpeg:https://poussesdescience.fr/wp-content/uploads/2025/11/Les-ateliers-scientifiques-des-vacances-davril-Semaine-du-17-au-21-avril-1-1.jpg
END:VEVENT
END:VCALENDAR