BEGIN:VCALENDAR
VERSION:2.0
PRODID:-//Pousses de science - ECPv6.15.20//NONSGML v1.0//EN
CALSCALE:GREGORIAN
METHOD:PUBLISH
X-WR-CALNAME:Pousses de science
X-ORIGINAL-URL:https://poussesdescience.fr
X-WR-CALDESC:Évènements pour Pousses de science
REFRESH-INTERVAL;VALUE=DURATION:PT1H
X-Robots-Tag:noindex
X-PUBLISHED-TTL:PT1H
BEGIN:VTIMEZONE
TZID:Europe/Paris
BEGIN:DAYLIGHT
TZOFFSETFROM:+0100
TZOFFSETTO:+0200
TZNAME:CEST
DTSTART:20250330T010000
END:DAYLIGHT
BEGIN:STANDARD
TZOFFSETFROM:+0200
TZOFFSETTO:+0100
TZNAME:CET
DTSTART:20251026T010000
END:STANDARD
BEGIN:DAYLIGHT
TZOFFSETFROM:+0100
TZOFFSETTO:+0200
TZNAME:CEST
DTSTART:20260329T010000
END:DAYLIGHT
BEGIN:STANDARD
TZOFFSETFROM:+0200
TZOFFSETTO:+0100
TZNAME:CET
DTSTART:20261025T010000
END:STANDARD
BEGIN:DAYLIGHT
TZOFFSETFROM:+0100
TZOFFSETTO:+0200
TZNAME:CEST
DTSTART:20270328T010000
END:DAYLIGHT
BEGIN:STANDARD
TZOFFSETFROM:+0200
TZOFFSETTO:+0100
TZNAME:CET
DTSTART:20271031T010000
END:STANDARD
END:VTIMEZONE
BEGIN:VEVENT
DTSTART;TZID=Europe/Paris:20260113T093000
DTEND;TZID=Europe/Paris:20260113T120000
DTSTAMP:20260424T214254
CREATED:20260115T181015Z
LAST-MODIFIED:20260323T192255Z
UID:3711-1768296600-1768305600@poussesdescience.fr
SUMMARY:Club de science Spécial IEF
DESCRIPTION:Le Club de science spécial IEF est un RDV mensuel scientifique pour tous les enfants scolarisés à maison. \n\n\n\nUn mardi par mois\, nous explorerons une thématique et des concepts scientifiques au fil des expériences et manipulations ludiques. A la clé : plaisir d’apprendre\, joie de découvrir et bonheur de faire grandir notre curiosité !  \n\n\n\nCette année\, le club s’articulera autour de trois grandes thématiques (une par trimestre) :  \n\n\n\n– Astronomie et Espace \n\n\n\n– Physique amusante de la matière \n\n\n\n– Science des animaux rigolos \n\n\n\nPour cet atelier\, nous partirons à la découverte de la physique de la matière avec des expériences autour du papier.  \n\n\n\nVous pouvez dès à présent inscrire votre enfant au club de science : les dates sont indiquées dans le visuel.  \n\n\n\nDeux créneaux sont possibles : de 9h30 à 10h30 pour les 4-6 ans et de 10h45 à 11h45 pour les 7-12 ans. \n\n\n\nInscription sur le formulaire de contact.
URL:https://poussesdescience.fr/event/club-de-science-special-ief-4/
LOCATION:La Roue\, 8 rue Mazet\, Chabeuil\, France
CATEGORIES:Atelier en présentiel
ATTACH;FMTTYPE=image/jpeg:https://poussesdescience.fr/wp-content/uploads/2024/09/1.jpg
END:VEVENT
BEGIN:VEVENT
DTSTART;TZID=Europe/Paris:20260117T093000
DTEND;TZID=Europe/Paris:20260117T120000
DTSTAMP:20260424T214254
CREATED:20260115T181423Z
LAST-MODIFIED:20260323T192255Z
UID:3713-1768642200-1768651200@poussesdescience.fr
SUMMARY:Club de science
DESCRIPTION:Le Club de Science c’est un RDV scientifique un samedi par mois pour tous les curieux entre 4 et 12 ans.   \n\n\n\nVous pouvez dès à présent y inscrire votre enfant : les dates sont indiquées dans le visuel. Deux créneaux sont possibles : de 9h30 à 10h30 pour les 4-6 ans et de 11h à 12h pour les 7-12 ans.  \n\n\n\nCette année\, le club s’articulera autour de trois grandes thématiques (une par trimestre) :  \n\n\n\n– Astronomie et Espace \n\n\n\n– Physique amusante de la matière \n\n\n\n– Science des animaux rigolos \n\n\n\nPour cet atelier\, nous explorerons la physique des matériaux avec des expériences autour des propriétés surprenantes du papier. \n\n\n\nVous pouvez dès à présent inscrire votre enfant au club de science : les dates sont indiquées dans le visuel.  \n\n\n\nInscription sur le formulaire de contact.
URL:https://poussesdescience.fr/event/club-de-science-4/
LOCATION:La Roue\, 8 rue Mazet\, Chabeuil\, France
CATEGORIES:Atelier en présentiel
ATTACH;FMTTYPE=image/jpeg:https://poussesdescience.fr/wp-content/uploads/2025/10/Les-ateliers-scientifiques-des-vacances-davril-Semaine-du-17-au-21-avril-2.jpg
END:VEVENT
BEGIN:VEVENT
DTSTART;TZID=Europe/Paris:20260120T100000
DTEND;TZID=Europe/Paris:20260120T110000
DTSTAMP:20260424T214254
CREATED:20260115T182008Z
LAST-MODIFIED:20260323T192445Z
UID:3715-1768903200-1768906800@poussesdescience.fr
SUMMARY:VISIO La force des aimants
DESCRIPTION:Une nouvelle thématique pour ce créneau spécial pour les enfants en IEF ! Un atelier pour se plonger dans les mystères de la physique magnétique et découvrir les propriétés amusantes des aimants.  \n\n\n\nLa liste du matériel est fournie lors de l’inscription (matériel accessible et facile à trouver chez soi)\, lien de connexion (Zoom) et modalités de paiement (Paypal ou virement bancaire) sont aussi envoyés par mail.  \n\n\n\nTarif unique pour toute la famille\, participation conseillée de 6 à 99 ans. Infos et inscription avec le formulaire de contact
URL:https://poussesdescience.fr/event/visio-la-force-des-aimants/
CATEGORIES:Atelier en visio
ATTACH;FMTTYPE=image/jpeg:https://poussesdescience.fr/wp-content/uploads/2026/01/IMG_0227.jpg
END:VEVENT
BEGIN:VEVENT
DTSTART;TZID=Europe/Paris:20260127T100000
DTEND;TZID=Europe/Paris:20260127T110000
DTSTAMP:20260424T214254
CREATED:20260115T182811Z
LAST-MODIFIED:20260323T192445Z
UID:3719-1769508000-1769511600@poussesdescience.fr
SUMMARY:VISIO Aventures scientifiques d’un glaçon
DESCRIPTION:Une nouvelle thématique pour ce créneau spécial pour les enfants en IEF ! Un atelier fraîchement conçu pour explorer les propriétés de la glace et les changements d’états de l’eau.  \n\n\n\nLa liste du matériel est fournie lors de l’inscription (matériel accessible et facile à trouver chez soi)\, lien de connexion (Zoom) et modalités de paiement (Paypal ou virement bancaire) sont aussi envoyés par mail.  \n\n\n\nTarif unique pour toute la famille\, participation conseillée de 6 à 99 ans. Infos et inscription avec le formulaire de contact
URL:https://poussesdescience.fr/event/visio-aventures-scientifiques-dun-glacon/
CATEGORIES:Atelier en visio
ATTACH;FMTTYPE=image/jpeg:https://poussesdescience.fr/wp-content/uploads/2026/01/Les-ateliers-scientifiques-des-vacances-davril-Semaine-du-17-au-21-avril-47.jpg
END:VEVENT
BEGIN:VEVENT
DTSTART;TZID=Europe/Paris:20260129T173000
DTEND;TZID=Europe/Paris:20260129T183000
DTSTAMP:20260424T214254
CREATED:20260115T183320Z
LAST-MODIFIED:20260323T192445Z
UID:3724-1769707800-1769711400@poussesdescience.fr
SUMMARY:VISIO La force des aimants
DESCRIPTION:Une nouvelle thématique pour ce créneau spécial pour les enfants en IEF ! Un atelier pour se plonger dans les mystères de la physique magnétique et découvrir les propriétés amusantes des aimants.  \n\n\n\nLa liste du matériel est fournie lors de l’inscription (matériel accessible et facile à trouver chez soi)\, lien de connexion (Zoom) et modalités de paiement (Paypal ou virement bancaire) sont aussi envoyés par mail.  \n\n\n\nTarif unique pour toute la famille\, participation conseillée de 6 à 99 ans. Infos et inscription avec le formulaire de contact
URL:https://poussesdescience.fr/event/visio-la-force-des-aimants-2/
CATEGORIES:Atelier en visio
ATTACH;FMTTYPE=image/jpeg:https://poussesdescience.fr/wp-content/uploads/2026/01/Les-ateliers-scientifiques-des-vacances-davril-Semaine-du-17-au-21-avril-48.jpg
END:VEVENT
END:VCALENDAR